BEGIN:VCALENDAR
VERSION:2.0
PRODID:-//Urban Market - ECPv6.15.16//NONSGML v1.0//EN
CALSCALE:GREGORIAN
METHOD:PUBLISH
X-WR-CALNAME:Urban Market
X-ORIGINAL-URL:https://urbanmarket.sk
X-WR-CALDESC:Udalosti pre Urban Market
REFRESH-INTERVAL;VALUE=DURATION:PT1H
X-Robots-Tag:noindex
X-PUBLISHED-TTL:PT1H
BEGIN:VTIMEZONE
TZID:Europe/Prague
BEGIN:DAYLIGHT
TZOFFSETFROM:+0100
TZOFFSETTO:+0200
TZNAME:CEST
DTSTART:20240331T010000
END:DAYLIGHT
BEGIN:STANDARD
TZOFFSETFROM:+0200
TZOFFSETTO:+0100
TZNAME:CET
DTSTART:20241027T010000
END:STANDARD
BEGIN:DAYLIGHT
TZOFFSETFROM:+0100
TZOFFSETTO:+0200
TZNAME:CEST
DTSTART:20250330T010000
END:DAYLIGHT
BEGIN:STANDARD
TZOFFSETFROM:+0200
TZOFFSETTO:+0100
TZNAME:CET
DTSTART:20251026T010000
END:STANDARD
BEGIN:DAYLIGHT
TZOFFSETFROM:+0100
TZOFFSETTO:+0200
TZNAME:CEST
DTSTART:20260329T010000
END:DAYLIGHT
BEGIN:STANDARD
TZOFFSETFROM:+0200
TZOFFSETTO:+0100
TZNAME:CET
DTSTART:20261025T010000
END:STANDARD
END:VTIMEZONE
BEGIN:VEVENT
DTSTART;TZID=Europe/Prague:20251214T183000
DTEND;TZID=Europe/Prague:20251214T193000
DTSTAMP:20260425T210823
CREATED:20251212T170109Z
LAST-MODIFIED:20251212T170540Z
UID:34829-1765737000-1765740600@urbanmarket.sk
SUMMARY:Anina Cama
DESCRIPTION:Anina Cama píše piesne so silnými textami a krásnou hudbou. Spracováva témy vzťahov\, inakosti či vnútorného prežívania. Hudobne sú mnohé melancholické\, iné radostné až rozprávkové\, ďalšie zasnené. Žánrovo by sa mohla jej hudba mohla zaradiť do pesničkárstva\, štýlu indie či indie-rock.
URL:https://urbanmarket.sk/program/anina-cama/
LOCATION:Pódium na balkóne
CATEGORIES:Koncert
ATTACH;FMTTYPE=image/jpeg:https://urbanmarket.sk/wp-content/uploads/2025/12/Anina-Cama_5-kopia.jpg
END:VEVENT
END:VCALENDAR