BEGIN:VCALENDAR
VERSION:2.0
PRODID:-//Urban Market - ECPv6.15.16//NONSGML v1.0//EN
CALSCALE:GREGORIAN
METHOD:PUBLISH
X-WR-CALNAME:Urban Market
X-ORIGINAL-URL:https://urbanmarket.sk
X-WR-CALDESC:Udalosti pre Urban Market
REFRESH-INTERVAL;VALUE=DURATION:PT1H
X-Robots-Tag:noindex
X-PUBLISHED-TTL:PT1H
BEGIN:VTIMEZONE
TZID:Europe/Prague
BEGIN:DAYLIGHT
TZOFFSETFROM:+0100
TZOFFSETTO:+0200
TZNAME:CEST
DTSTART:20240331T010000
END:DAYLIGHT
BEGIN:STANDARD
TZOFFSETFROM:+0200
TZOFFSETTO:+0100
TZNAME:CET
DTSTART:20241027T010000
END:STANDARD
BEGIN:DAYLIGHT
TZOFFSETFROM:+0100
TZOFFSETTO:+0200
TZNAME:CEST
DTSTART:20250330T010000
END:DAYLIGHT
BEGIN:STANDARD
TZOFFSETFROM:+0200
TZOFFSETTO:+0100
TZNAME:CET
DTSTART:20251026T010000
END:STANDARD
BEGIN:DAYLIGHT
TZOFFSETFROM:+0100
TZOFFSETTO:+0200
TZNAME:CEST
DTSTART:20260329T010000
END:DAYLIGHT
BEGIN:STANDARD
TZOFFSETFROM:+0200
TZOFFSETTO:+0100
TZNAME:CET
DTSTART:20261025T010000
END:STANDARD
END:VTIMEZONE
BEGIN:VEVENT
DTSTART;TZID=Europe/Prague:20250809T183000
DTEND;TZID=Europe/Prague:20250809T193000
DTSTAMP:20260426T025850
CREATED:20250726T170344Z
LAST-MODIFIED:20250726T171306Z
UID:31719-1754764200-1754767800@urbanmarket.sk
SUMMARY:Bary\, beaty\, sekundy: Keď sa rap prepletá so športom
DESCRIPTION:Čo majú spoločné Shaquille O’Neal\, Travis Scott\, Nike Jordany\, baseballové bundy a klip od 50 Centa? Odpoveď znie – súčasná kultúra\, kde sa rap a šport zlievajú do jedného štýlového celku. Hranice medzi týmito dvoma svetmi sa už dávno zmazali – a Hugo Hypetrain a Hlava vám v tejto prednáške ukážu\, prečo sa oplatí ich spoločný jazyk vnímať viac než len ako módu alebo pózu. Skateboarding\, basketball\, baseball\, futbal – každý z týchto športov má svoj vlastný rytmus\, estetiku a komunitu. A práve tieto vlastnosti sa v priebehu rokov prirodzene prepojili s tým\, čo ponúka hiphopová kultúra – autentickosť\, rebelstvo\, storytelling a štýl. Od klipov z deväťdesiatok až po dnešné športové dokumenty plné trapových beatov. Od oblečenia až po jazyk\, akým sa športovci vyjadrujú – a ako rapperi čerpajú z ich ikonografie. Na Urban Markete sa dozviete\, prečo má rap rád NBA a NBA rap\, čo má Eminem spoločné s boxom\, ako sa dostali skejťácke triky do hiphopových klipov a prečo sa bez športových metafor dnes nezaobíde takmer žiadny punchline. Prednáška nie je len suchým výkladom – Hugo Hypetrain a Hlava vás prevedú celým týmto príbehom s dávkou humoru\, audiovizuálnych ukážok a trefných poznámok. Ak máte radi popkultúru\, športové outfity\, beaty alebo len radi mudrujete pri pive o tom\, že rap nie je ako kedysi\, táto prednáška je pre vás. 								\n				\n				\n				\n																														\n				\n				\n				\n									Hugo Hypetrain je kreatívec\, DJ a profesionálny mudrlant na tému rapu\, ktorého môžete poznať z rádia\, klubov aj sociálnych sietí. Všade\, kde treba pomenovať\, čo sa v rape deje – a prečo. Sleduje trendy\, ale nezabúda ani na korene. Tentoraz sa pustil do témy\, ktorá prepája jeho dve vášne: hudbu a šport. 								\n				\n				\n				\n																														\n				\n				\n				\n									Hlava\, vlastným menom Peter Hlavička\, stojí za vznikom Flace (skratka pre Fashion Place). Flace pôvodne fungoval len ako facebooková skupina\, kde sa resalejú najnovšie dropy Supreme\, Adidas Yeezy a iné hypebeast oblečenie a tenisky. Postupom času sa Flace rozrástol o kamenný obchod v centre Bratislavy s vlastnou značkou oblečenia a stal sa dôležitou streetwear komunitou. Navyše k svojim aktivitám pridal aj tvorbu merchu\, ktorý častokrát práve v jeho tvorbe berie formu športového dresu\, ktorý bol aj jeden z prvých foriem merchandisingu na svete a udomácnil sa práve v rapovej komunite. 
URL:https://urbanmarket.sk/program/bary-beaty-sekundy-ked-sa-rap-prepleta-so-sportom/
LOCATION:Urban Market Stage
CATEGORIES:Prednáška
ATTACH;FMTTYPE=image/png:https://urbanmarket.sk/wp-content/uploads/2025/07/image.png
END:VEVENT
END:VCALENDAR