BEGIN:VCALENDAR
VERSION:2.0
PRODID:-//Urban Market - ECPv6.15.16//NONSGML v1.0//EN
CALSCALE:GREGORIAN
METHOD:PUBLISH
X-WR-CALNAME:Urban Market
X-ORIGINAL-URL:https://urbanmarket.sk
X-WR-CALDESC:Udalosti pre Urban Market
REFRESH-INTERVAL;VALUE=DURATION:PT1H
X-Robots-Tag:noindex
X-PUBLISHED-TTL:PT1H
BEGIN:VTIMEZONE
TZID:Europe/Prague
BEGIN:DAYLIGHT
TZOFFSETFROM:+0100
TZOFFSETTO:+0200
TZNAME:CEST
DTSTART:20240331T010000
END:DAYLIGHT
BEGIN:STANDARD
TZOFFSETFROM:+0200
TZOFFSETTO:+0100
TZNAME:CET
DTSTART:20241027T010000
END:STANDARD
BEGIN:DAYLIGHT
TZOFFSETFROM:+0100
TZOFFSETTO:+0200
TZNAME:CEST
DTSTART:20250330T010000
END:DAYLIGHT
BEGIN:STANDARD
TZOFFSETFROM:+0200
TZOFFSETTO:+0100
TZNAME:CET
DTSTART:20251026T010000
END:STANDARD
BEGIN:DAYLIGHT
TZOFFSETFROM:+0100
TZOFFSETTO:+0200
TZNAME:CEST
DTSTART:20260329T010000
END:DAYLIGHT
BEGIN:STANDARD
TZOFFSETFROM:+0200
TZOFFSETTO:+0100
TZNAME:CET
DTSTART:20261025T010000
END:STANDARD
END:VTIMEZONE
BEGIN:VEVENT
DTSTART;TZID=Europe/Prague:20251206T180000
DTEND;TZID=Europe/Prague:20251206T190000
DTSTAMP:20260426T012124
CREATED:20251130T221723Z
LAST-MODIFIED:20251130T222043Z
UID:33442-1765044000-1765047600@urbanmarket.sk
SUMMARY:Bene & Roland Kánik
DESCRIPTION:Bene a Roland Kánik spolupracujú už takmer 15 rokov\, z toho 10 rokov je Roland Kánik aj členom skupiny Modré hory\, ktorú tvoria okrem nich ešte raper Lyrik a ich dvorný beatmacher Peko. Po dvanástich rokoch od ich prvého spoločného albumu nahrali nový spoločný album Beat či nebeat. Roland Kánik ako autor hudby a Bene ako autor a interpret textov sa v deviatich skladbách túlajú medzi rapovými beatmi\, bluesom\, jazzom a ambientnými plochami. Bene k tomu medzičasom vydal aj novú knihu a album Emeriho príbeh.  								\n				\n				\n				\n							\n							\n																											\n													\n									\n					\n						\n				\n				\n				\n									Zahrajú prierez ich tvorby. Bude Spam poetry\, bude Beat či nebeat\, Emeriho príbeh a aj dáke prekvapenia.  Beat či nebeat na tomto koncerte? Beat!   
URL:https://urbanmarket.sk/program/bene-roland-kanik/
LOCATION:Urban Market Terasa Stage
CATEGORIES:Koncert
ATTACH;FMTTYPE=image/jpeg:https://urbanmarket.sk/wp-content/uploads/2025/11/Bene-Roland-Kanik-foto3-kopia.jpg
END:VEVENT
END:VCALENDAR