BEGIN:VCALENDAR
VERSION:2.0
PRODID:-//Urban Market - ECPv6.15.16//NONSGML v1.0//EN
CALSCALE:GREGORIAN
METHOD:PUBLISH
X-WR-CALNAME:Urban Market
X-ORIGINAL-URL:https://urbanmarket.sk
X-WR-CALDESC:Udalosti pre Urban Market
REFRESH-INTERVAL;VALUE=DURATION:PT1H
X-Robots-Tag:noindex
X-PUBLISHED-TTL:PT1H
BEGIN:VTIMEZONE
TZID:Europe/Prague
BEGIN:DAYLIGHT
TZOFFSETFROM:+0100
TZOFFSETTO:+0200
TZNAME:CEST
DTSTART:20240331T010000
END:DAYLIGHT
BEGIN:STANDARD
TZOFFSETFROM:+0200
TZOFFSETTO:+0100
TZNAME:CET
DTSTART:20241027T010000
END:STANDARD
BEGIN:DAYLIGHT
TZOFFSETFROM:+0100
TZOFFSETTO:+0200
TZNAME:CEST
DTSTART:20250330T010000
END:DAYLIGHT
BEGIN:STANDARD
TZOFFSETFROM:+0200
TZOFFSETTO:+0100
TZNAME:CET
DTSTART:20251026T010000
END:STANDARD
BEGIN:DAYLIGHT
TZOFFSETFROM:+0100
TZOFFSETTO:+0200
TZNAME:CEST
DTSTART:20260329T010000
END:DAYLIGHT
BEGIN:STANDARD
TZOFFSETFROM:+0200
TZOFFSETTO:+0100
TZNAME:CET
DTSTART:20261025T010000
END:STANDARD
END:VTIMEZONE
BEGIN:VEVENT
DTSTART;TZID=Europe/Prague:20250809T203000
DTEND;TZID=Europe/Prague:20250809T213000
DTSTAMP:20260426T025313
CREATED:20250726T172958Z
LAST-MODIFIED:20250726T173356Z
UID:31737-1754771400-1754775000@urbanmarket.sk
SUMMARY:BUBO TRAVEL BATTLE
DESCRIPTION:V novom\, sviežom formáte cestovateľskej performance sa proti sebe postavia dvaja skúsení BUBO sprievodcovia – Katrin Abou Naboutová a Marek Melúch\, ostrieľaní cestovatelia\, ktorí porovnajú svoje najintenzívnejšie zážitky z ciest okolo sveta.Z každej destinácie vytiahnu to najextrémnejšie\, čo zažili. Obaja prežili situácie\, o akých sa väčšine ľudí ani nesníva – a to aj počas tých najbláznivejších nocí. Nebudeme vás nudiť prednáškami ani historickými exkurziami. Čakajú vás necenzurované pikošky a momenty\, ktoré si neviete predstaviť\, kým ich sami nezažijete. Sobotnou talkshow vás ako moderátor a rozhodca prevedie Marko Úradník. 								\n				\n				\n				\n																														\n				\n				\n				\n									Katrin Abou Naboutová žila osemnásť rokov v moslimskom svete. Miluje arabskú kultúru aj jej pohodový prístup k životu. Najlepšie sa cíti v horách a na púšti\, no rada spoznáva aj ľudí z rôznych kútov sveta. Stretnúť ju môžete najmä v arabských krajinách a juhovýchodnej Ázii. 								\n				\n				\n				\n																														\n				\n				\n				\n									Marek Melúch precestoval vyše 100 krajín a navštívil každý kontinent okrem Antarktídy. V BUBO sa špecializuje na oblasti ako Indočína\, Blízky východ\, USA\, Kanada\, Aljaška a veľkú časť Afriky – od Kene až po Juhoafrickú republiku. Neustále hľadá nové miesta a zážitky. 								\n				\n					\n		\n				\n			\n						\n				\n																														\n				\n				\n				\n									V spolupráci s Bubo Travel Agency. WEB | INSTAGRAM | FACEBOOK | TIKTOK
URL:https://urbanmarket.sk/program/bubo-travel-battle/
LOCATION:Urban Market Stage
CATEGORIES:Talkshow
ATTACH;FMTTYPE=image/jpeg:https://urbanmarket.sk/wp-content/uploads/2025/07/travel_battle_poster-kopia.jpg
END:VEVENT
END:VCALENDAR