BEGIN:VCALENDAR
VERSION:2.0
PRODID:-//Urban Market - ECPv6.15.16//NONSGML v1.0//EN
CALSCALE:GREGORIAN
METHOD:PUBLISH
X-WR-CALNAME:Urban Market
X-ORIGINAL-URL:https://urbanmarket.sk
X-WR-CALDESC:Udalosti pre Urban Market
REFRESH-INTERVAL;VALUE=DURATION:PT1H
X-Robots-Tag:noindex
X-PUBLISHED-TTL:PT1H
BEGIN:VTIMEZONE
TZID:Europe/Prague
BEGIN:DAYLIGHT
TZOFFSETFROM:+0100
TZOFFSETTO:+0200
TZNAME:CEST
DTSTART:20240331T010000
END:DAYLIGHT
BEGIN:STANDARD
TZOFFSETFROM:+0200
TZOFFSETTO:+0100
TZNAME:CET
DTSTART:20241027T010000
END:STANDARD
BEGIN:DAYLIGHT
TZOFFSETFROM:+0100
TZOFFSETTO:+0200
TZNAME:CEST
DTSTART:20250330T010000
END:DAYLIGHT
BEGIN:STANDARD
TZOFFSETFROM:+0200
TZOFFSETTO:+0100
TZNAME:CET
DTSTART:20251026T010000
END:STANDARD
BEGIN:DAYLIGHT
TZOFFSETFROM:+0100
TZOFFSETTO:+0200
TZNAME:CEST
DTSTART:20260329T010000
END:DAYLIGHT
BEGIN:STANDARD
TZOFFSETFROM:+0200
TZOFFSETTO:+0100
TZNAME:CET
DTSTART:20261025T010000
END:STANDARD
END:VTIMEZONE
BEGIN:VEVENT
DTSTART;TZID=Europe/Prague:20251214T101500
DTEND;TZID=Europe/Prague:20251214T111000
DTSTAMP:20260425T235051
CREATED:20251212T163020Z
LAST-MODIFIED:20251212T163132Z
UID:34784-1765707300-1765710600@urbanmarket.sk
SUMMARY:Divadlo Haaf: Odvážny zajko
DESCRIPTION:Vyberte sa na putovanie spolu so Zajkom\, ktorý sa učí ako byť smelým\, odvážnym a slušným. Interaktívne predstavenie na motívy rozprávky „Smelý Zajko“ od J. C. Hronského vám zaručí množstvo živej hudby\, pesničiek a zábavy. Dokonca sa naučíte tri zázračné slovíčka v niekoľkých jazykoch. Čakajú vás pestrofarebné kostýmy\, skvelí profesionálni hudobníci (The Susie Haas Band) a herci.
URL:https://urbanmarket.sk/program/divadlo-haaf-odvazny-zajko/
LOCATION:Pódium na balkóne
CATEGORIES:Divadlo pre deti
ATTACH;FMTTYPE=image/jpeg:https://urbanmarket.sk/wp-content/uploads/2025/12/image1-kopia.jpeg
END:VEVENT
END:VCALENDAR