BEGIN:VCALENDAR
VERSION:2.0
PRODID:-//Urban Market - ECPv6.15.16//NONSGML v1.0//EN
CALSCALE:GREGORIAN
METHOD:PUBLISH
X-WR-CALNAME:Urban Market
X-ORIGINAL-URL:https://urbanmarket.sk
X-WR-CALDESC:Udalosti pre Urban Market
REFRESH-INTERVAL;VALUE=DURATION:PT1H
X-Robots-Tag:noindex
X-PUBLISHED-TTL:PT1H
BEGIN:VTIMEZONE
TZID:Europe/Prague
BEGIN:DAYLIGHT
TZOFFSETFROM:+0100
TZOFFSETTO:+0200
TZNAME:CEST
DTSTART:20240331T010000
END:DAYLIGHT
BEGIN:STANDARD
TZOFFSETFROM:+0200
TZOFFSETTO:+0100
TZNAME:CET
DTSTART:20241027T010000
END:STANDARD
BEGIN:DAYLIGHT
TZOFFSETFROM:+0100
TZOFFSETTO:+0200
TZNAME:CEST
DTSTART:20250330T010000
END:DAYLIGHT
BEGIN:STANDARD
TZOFFSETFROM:+0200
TZOFFSETTO:+0100
TZNAME:CET
DTSTART:20251026T010000
END:STANDARD
BEGIN:DAYLIGHT
TZOFFSETFROM:+0100
TZOFFSETTO:+0200
TZNAME:CEST
DTSTART:20260329T010000
END:DAYLIGHT
BEGIN:STANDARD
TZOFFSETFROM:+0200
TZOFFSETTO:+0100
TZNAME:CET
DTSTART:20261025T010000
END:STANDARD
END:VTIMEZONE
BEGIN:VEVENT
DTSTART;TZID=Europe/Prague:20251222T153000
DTEND;TZID=Europe/Prague:20251222T160500
DTSTAMP:20260425T182231
CREATED:20251214T091942Z
LAST-MODIFIED:20251214T092120Z
UID:35064-1766417400-1766419500@urbanmarket.sk
SUMMARY:Divadlo Houže: Zlatá rybka
DESCRIPTION:Kto by nepoznal starú známu rozprávku o rybárovi a Zlatej rybke? Príbeh plný prianí a ľudskej chamtivosti\, ktorej je minimálne toľko\, ako rýb v mori! Divadlo Houže prichádza s interpretáciou\, v ktorej sa spozná asi každý. Zlatú rybku ulovia dvaja kamaráti – a to ešte len začne „podívaná“! Kde sa zrazu začnú plniť zázračné priania\, tam je len krôčik ku sváru a hádke. Príbeh o tom\, že rovnako ako more\, aj kamarátstvo má svoje hranice a tiež o tom\, že správny kamarát Ťa neťahá ku dnu. Pre deti od 5 rokov.
URL:https://urbanmarket.sk/program/divadlo-houze-zlata-rybka/
LOCATION:Pódium na balkóne
CATEGORIES:Divadlo pre deti
ATTACH;FMTTYPE=image/jpeg:https://urbanmarket.sk/wp-content/uploads/2025/12/526667809_1314348847077942_5078114989099863700_n-kopia-1.jpg
END:VEVENT
END:VCALENDAR