BEGIN:VCALENDAR
VERSION:2.0
PRODID:-//Urban Market - ECPv6.15.16//NONSGML v1.0//EN
CALSCALE:GREGORIAN
METHOD:PUBLISH
X-WR-CALNAME:Urban Market
X-ORIGINAL-URL:https://urbanmarket.sk
X-WR-CALDESC:Udalosti pre Urban Market
REFRESH-INTERVAL;VALUE=DURATION:PT1H
X-Robots-Tag:noindex
X-PUBLISHED-TTL:PT1H
BEGIN:VTIMEZONE
TZID:Europe/Prague
BEGIN:DAYLIGHT
TZOFFSETFROM:+0100
TZOFFSETTO:+0200
TZNAME:CEST
DTSTART:20240331T010000
END:DAYLIGHT
BEGIN:STANDARD
TZOFFSETFROM:+0200
TZOFFSETTO:+0100
TZNAME:CET
DTSTART:20241027T010000
END:STANDARD
BEGIN:DAYLIGHT
TZOFFSETFROM:+0100
TZOFFSETTO:+0200
TZNAME:CEST
DTSTART:20250330T010000
END:DAYLIGHT
BEGIN:STANDARD
TZOFFSETFROM:+0200
TZOFFSETTO:+0100
TZNAME:CET
DTSTART:20251026T010000
END:STANDARD
BEGIN:DAYLIGHT
TZOFFSETFROM:+0100
TZOFFSETTO:+0200
TZNAME:CEST
DTSTART:20260329T010000
END:DAYLIGHT
BEGIN:STANDARD
TZOFFSETFROM:+0200
TZOFFSETTO:+0100
TZNAME:CET
DTSTART:20261025T010000
END:STANDARD
END:VTIMEZONE
BEGIN:VEVENT
DTSTART;TZID=Europe/Prague:20251221T153000
DTEND;TZID=Europe/Prague:20251221T163000
DTSTAMP:20260425T182224
CREATED:20251213T071314Z
LAST-MODIFIED:20251213T071709Z
UID:35025-1766331000-1766334600@urbanmarket.sk
SUMMARY:EDUdrama: O 12 mesiačikoch
DESCRIPTION:Celý rok čakáme na magický decembrový čas. Čas\, keď máme byť k sebe láskavejší. Ale čo ak stretnete niekoho\, kto toľko láskavosti v srdci nemá? Vtedy potrebujeme inakšie dary. Zaslúžme si spolu s Maruškou dary od Dvanástich mesiačikov a roztopme ľady v srdciach.
URL:https://urbanmarket.sk/program/edudrama-o-12-mesiacikoch/
LOCATION:Pódium na balkóne
CATEGORIES:Divadlo pre deti
ATTACH;FMTTYPE=image/jpeg:https://urbanmarket.sk/wp-content/uploads/2025/12/495097605_1257699465789325_8750386640950204368_n-kopia.jpg
END:VEVENT
END:VCALENDAR