BEGIN:VCALENDAR
VERSION:2.0
PRODID:-//Urban Market - ECPv6.15.16//NONSGML v1.0//EN
CALSCALE:GREGORIAN
METHOD:PUBLISH
X-WR-CALNAME:Urban Market
X-ORIGINAL-URL:https://urbanmarket.sk
X-WR-CALDESC:Udalosti pre Urban Market
REFRESH-INTERVAL;VALUE=DURATION:PT1H
X-Robots-Tag:noindex
X-PUBLISHED-TTL:PT1H
BEGIN:VTIMEZONE
TZID:Europe/Prague
BEGIN:DAYLIGHT
TZOFFSETFROM:+0100
TZOFFSETTO:+0200
TZNAME:CEST
DTSTART:20240331T010000
END:DAYLIGHT
BEGIN:STANDARD
TZOFFSETFROM:+0200
TZOFFSETTO:+0100
TZNAME:CET
DTSTART:20241027T010000
END:STANDARD
BEGIN:DAYLIGHT
TZOFFSETFROM:+0100
TZOFFSETTO:+0200
TZNAME:CEST
DTSTART:20250330T010000
END:DAYLIGHT
BEGIN:STANDARD
TZOFFSETFROM:+0200
TZOFFSETTO:+0100
TZNAME:CET
DTSTART:20251026T010000
END:STANDARD
BEGIN:DAYLIGHT
TZOFFSETFROM:+0100
TZOFFSETTO:+0200
TZNAME:CEST
DTSTART:20260329T010000
END:DAYLIGHT
BEGIN:STANDARD
TZOFFSETFROM:+0200
TZOFFSETTO:+0100
TZNAME:CET
DTSTART:20261025T010000
END:STANDARD
END:VTIMEZONE
BEGIN:VEVENT
DTSTART;TZID=Europe/Prague:20250809T140000
DTEND;TZID=Europe/Prague:20250809T150000
DTSTAMP:20260426T024439
CREATED:20250801T225638Z
LAST-MODIFIED:20250805T072759Z
UID:31932-1754748000-1754751600@urbanmarket.sk
SUMMARY:GRAPE Snow Club: Jana Wolnerová (Gantnerová)\, Klaudia Medlová\, Zuzka Bernardová Stromková
DESCRIPTION:Predstavte si zasnežený svah\, ostrý vietor\, pulzujúci adrenalín a moment\, keď sa človek musí rozhodnúť – skočím? Zídem? Risknem to? A teraz si predstavte\, že tým človekom je žena\, ktorá ide proti prúdu\, čelí očakávaniam\, borí stereotypy a zanecháva za sebou stopu nielen v snehu\, ale aj v spoločnosti. Do festivalového Snow Clubu na GRAPE prichádzajú tri výnimočné osobnosti slovenského zimného športu – Jana Wolnerová (Gantnerová)\, Klaudia Medlová a Zuzka Bernardová Stromková – každá z iného prostredia a každá so svojím jedinečným štýlom jazdy. Budeme hovoriť o tom\, aké je to rásť v športovom svete\, o tom\, ako prekonávať strach – niekedy z výšky\, niekedy z pádu a niekedy z vlastných očakávaní. O tom\, čo znamená byť ženou v extrémne fyzickej a súťaživej oblasti – a ako sa z profesionálnych športovkýň stávajú inšpiratívne postavy\, ktoré si dokážu udržať identitu aj mimo súťažných dráh. Reč bude aj o zraneniach\, o stratách\, o návratoch\, o materstve\, o mentálnom zdraví\, o tom\, čo sa deje\, keď svetlá reflektorov zhasnú. So štipkou humoru a úprimnosti. 								\n				\n				\n				\n																														\n				\n				\n				\n									Jana Wolnerová (Gantnerová) je zjazdová lyžiarka\, ktorá trikrát štartovala na zimných olympijských hrách\, niekoľkonásobne dominovala v národných majstrovstvách\, no po ukončení aktívnej kariéry sa rozhodla prerámcovať svoju identitu športovkyne. Nezostala pri klasickom trénerskom stereotype – v súčasnosti je známa ako popularizátorka parkouru a funkčného tréningu\, ktorý prepája s vlastnou skúsenosťou zo špičkového výkonu. Hovorí otvorene o tlakoch\, ktoré zažila ako mladá športovkyňa\, aj o tom\, čo všetko musela odučiť\, aby opäť našla radosť z pohybu. 								\n				\n				\n				\n																														\n				\n				\n				\n									Klaudia Medlová sa zapísala do histórie svetového snowboardingu – no sama hovorí\, že jej najťažšia a najdôležitejšia „jazda“ prišla až mimo svahu. Ako prvá žena na svete zvládla legendárny trik double backside rodeo 900\, a vďaka svojej odvahe\, štýlu a výkonom sa dostala medzi elitu svetového freestyle snowboardingu. Na svahu bola drzá\, inovatívna\, technicky presná – a pritom si vždy uchovala svoju ženskosť a autentický prejav. Po zraneniach\, osobných zlomoch aj materstve sa rozhodla stiahnuť z profesionálneho športu. V súčasnosti hľadá nové spôsoby\, ako prepájať jazdu\, prírodu\, pohodu a seba.  								\n				\n				\n				\n																														\n				\n				\n				\n									Zuzka Bernardová Stromková je olympionička\, známa aj ako Stromka\, ktorá patrila k najvýraznejším tváram slovenského freeskiingu. Jej štýl bol hravý\, plynulý a nekompromisne odvážny – až do chvíle\, keď sa jej život zmenil v sekunde. Po vážnom zranení oka pri jednej z jázd musela čeliť realite\, ktorú by len málokto zvládol s takou gráciou a silou. Zuzka dokázala nájsť nový spôsob\, ako byť v pohybe\, ako inšpirovať a žiť. Dodnes aktívne lyžuje\, cestuje\, rozpráva svoj príbeh – a predovšetkým ukazuje\, že úsmev nie je len výraz tváre\, ale postoj k životu. 								\n				\n					\n		\n				\n			\n						\n				\n																														\n				\n				\n				\n									Diskusiou sprevádza Filip Benček\, moderátor a kreatívec. Filip je športový nadšenec\, komentátor a moderátor\, ktorý sa sa snaží pomôcť športovcom s ich prezentáciou na verejnosti. Spoluorganizátor filmového festivalu zameraného na adrenalín a 8. najlepší riversurfer na Slovensku a v Česku pre rok 2024!
URL:https://urbanmarket.sk/program/grape-snow-club-jana-wolnerova-gantnerova-klaudia-medlova-zuzka-bernardova-stromkova/
LOCATION:Urban Market Stage
CATEGORIES:Diskusia
ATTACH;FMTTYPE=image/png:https://urbanmarket.sk/wp-content/uploads/2025/08/image3.png
END:VEVENT
END:VCALENDAR