BEGIN:VCALENDAR
VERSION:2.0
PRODID:-//Urban Market - ECPv6.15.16//NONSGML v1.0//EN
CALSCALE:GREGORIAN
METHOD:PUBLISH
X-WR-CALNAME:Urban Market
X-ORIGINAL-URL:https://urbanmarket.sk
X-WR-CALDESC:Udalosti pre Urban Market
REFRESH-INTERVAL;VALUE=DURATION:PT1H
X-Robots-Tag:noindex
X-PUBLISHED-TTL:PT1H
BEGIN:VTIMEZONE
TZID:Europe/Prague
BEGIN:DAYLIGHT
TZOFFSETFROM:+0100
TZOFFSETTO:+0200
TZNAME:CEST
DTSTART:20240331T010000
END:DAYLIGHT
BEGIN:STANDARD
TZOFFSETFROM:+0200
TZOFFSETTO:+0100
TZNAME:CET
DTSTART:20241027T010000
END:STANDARD
BEGIN:DAYLIGHT
TZOFFSETFROM:+0100
TZOFFSETTO:+0200
TZNAME:CEST
DTSTART:20250330T010000
END:DAYLIGHT
BEGIN:STANDARD
TZOFFSETFROM:+0200
TZOFFSETTO:+0100
TZNAME:CET
DTSTART:20251026T010000
END:STANDARD
BEGIN:DAYLIGHT
TZOFFSETFROM:+0100
TZOFFSETTO:+0200
TZNAME:CEST
DTSTART:20260329T010000
END:DAYLIGHT
BEGIN:STANDARD
TZOFFSETFROM:+0200
TZOFFSETTO:+0100
TZNAME:CET
DTSTART:20261025T010000
END:STANDARD
END:VTIMEZONE
BEGIN:VEVENT
DTSTART;TZID=Europe/Prague:20250809T230000
DTEND;TZID=Europe/Prague:20250810T013000
DTSTAMP:20260426T025518
CREATED:20250729T205128Z
LAST-MODIFIED:20250729T205543Z
UID:31813-1754780400-1754789400@urbanmarket.sk
SUMMARY:Kráľ Richard: Zrodenie šampióniek
DESCRIPTION:Kráľ Richard: Zrodenie šampiónok je životopisná dráma nakrútená podľa skutočného príbehu\, ktorý inšpiruje celý svet. Rozpráva príbeh Richarda Williamsa (Will Smith)\, trénera a otca svetoznámych tenistiek Venus a Sereny\, ktorý má geniálny plán\, ako dostať svoje dcéry z ulíc Comptonu v Kalifornii na svetovú tenisovú scénu. Hlboko dojímavý príbeh ukazuje silu rodiny\, vytrvalosť a neochvejnú vieru ako prostriedok na dosiahnutie nemožného a ovplyvnenie nielen tenisového sveta. 								\n				\n				\n				\n							\n							\n																											\n													\n									\n					\n						\n				\n				\n				\n									Zdroj ČSFD. 								\n				\n					\n		\n				\n			\n						\n				\n																														\n				\n				\n				\n									USA\, 2021\, 145 min  Réžia: Reinaldo Marcus GreenScenár: Zach BaylinKamera: Robert ElswitHudba: Kris BowersHrajú: Will Smith\, Aunjanue Ellis-Taylor\, Jon Bernthal\, Saniyya Sidney\, Demi Singleton\, Tony Goldwyn\, Mikayla Lashae Bartholomew\, Daniele Lawson\, Layla Crawford
URL:https://urbanmarket.sk/program/kral-richard-zrodenie-sampioniek/
LOCATION:Urban Market Stage
CATEGORIES:Silent Cinema
ATTACH;FMTTYPE=image/jpeg:https://urbanmarket.sk/wp-content/uploads/2025/07/rev-1-KR-08238r_High_Res_JPEGc-kopia.jpg
END:VEVENT
END:VCALENDAR