BEGIN:VCALENDAR
VERSION:2.0
PRODID:-//Urban Market - ECPv6.15.16//NONSGML v1.0//EN
CALSCALE:GREGORIAN
METHOD:PUBLISH
X-WR-CALNAME:Urban Market
X-ORIGINAL-URL:https://urbanmarket.sk
X-WR-CALDESC:Udalosti pre Urban Market
REFRESH-INTERVAL;VALUE=DURATION:PT1H
X-Robots-Tag:noindex
X-PUBLISHED-TTL:PT1H
BEGIN:VTIMEZONE
TZID:Europe/Prague
BEGIN:DAYLIGHT
TZOFFSETFROM:+0100
TZOFFSETTO:+0200
TZNAME:CEST
DTSTART:20230326T010000
END:DAYLIGHT
BEGIN:STANDARD
TZOFFSETFROM:+0200
TZOFFSETTO:+0100
TZNAME:CET
DTSTART:20231029T010000
END:STANDARD
BEGIN:DAYLIGHT
TZOFFSETFROM:+0100
TZOFFSETTO:+0200
TZNAME:CEST
DTSTART:20240331T010000
END:DAYLIGHT
BEGIN:STANDARD
TZOFFSETFROM:+0200
TZOFFSETTO:+0100
TZNAME:CET
DTSTART:20241027T010000
END:STANDARD
BEGIN:DAYLIGHT
TZOFFSETFROM:+0100
TZOFFSETTO:+0200
TZNAME:CEST
DTSTART:20250330T010000
END:DAYLIGHT
BEGIN:STANDARD
TZOFFSETFROM:+0200
TZOFFSETTO:+0100
TZNAME:CET
DTSTART:20251026T010000
END:STANDARD
END:VTIMEZONE
BEGIN:VEVENT
DTSTART;TZID=Europe/Prague:20240810T200000
DTEND;TZID=Europe/Prague:20240810T213000
DTSTAMP:20260425T233533
CREATED:20240715T171351Z
LAST-MODIFIED:20240715T171439Z
UID:23290-1723320000-1723325400@urbanmarket.sk
SUMMARY:Kvíz Ďalej!: Zábavná interaktívna show s Ludwigom a Barim
DESCRIPTION:Čaká vás výber najzaujímavejších vedomostných otázok\, zábavných hlavolamov a zaujímavostí\, okorenených rafinovanými a vtipnými nápovedami. V kvíze s Ludwigom a Barim vyhrávajú všetci a prvé tri tímy budú odmenené!
URL:https://urbanmarket.sk/program/kviz-dalej-zabavna-interaktivna-show-s-ludwigom-a-barim/
LOCATION:Urban Market Stage
CATEGORIES:Vedomostný kvíz
ATTACH;FMTTYPE=image/jpeg:https://urbanmarket.sk/wp-content/uploads/2024/07/3R7A0394.jpg
END:VEVENT
END:VCALENDAR