BEGIN:VCALENDAR
VERSION:2.0
PRODID:-//Urban Market - ECPv6.15.16//NONSGML v1.0//EN
CALSCALE:GREGORIAN
METHOD:PUBLISH
X-WR-CALNAME:Urban Market
X-ORIGINAL-URL:https://urbanmarket.sk
X-WR-CALDESC:Udalosti pre Urban Market
REFRESH-INTERVAL;VALUE=DURATION:PT1H
X-Robots-Tag:noindex
X-PUBLISHED-TTL:PT1H
BEGIN:VTIMEZONE
TZID:Europe/Prague
BEGIN:DAYLIGHT
TZOFFSETFROM:+0100
TZOFFSETTO:+0200
TZNAME:CEST
DTSTART:20210328T010000
END:DAYLIGHT
BEGIN:STANDARD
TZOFFSETFROM:+0200
TZOFFSETTO:+0100
TZNAME:CET
DTSTART:20211031T010000
END:STANDARD
BEGIN:DAYLIGHT
TZOFFSETFROM:+0100
TZOFFSETTO:+0200
TZNAME:CEST
DTSTART:20220327T010000
END:DAYLIGHT
BEGIN:STANDARD
TZOFFSETFROM:+0200
TZOFFSETTO:+0100
TZNAME:CET
DTSTART:20221030T010000
END:STANDARD
BEGIN:DAYLIGHT
TZOFFSETFROM:+0100
TZOFFSETTO:+0200
TZNAME:CEST
DTSTART:20230326T010000
END:DAYLIGHT
BEGIN:STANDARD
TZOFFSETFROM:+0200
TZOFFSETTO:+0100
TZNAME:CET
DTSTART:20231029T010000
END:STANDARD
END:VTIMEZONE
BEGIN:VEVENT
DTSTART;TZID=Europe/Prague:20221214T150000
DTEND;TZID=Europe/Prague:20221214T153000
DTSTAMP:20260425T233511
CREATED:20221211T105300Z
LAST-MODIFIED:20221211T105555Z
UID:9674-1671030000-1671031800@urbanmarket.sk
SUMMARY:Marika Beňadik Majorová číta z obľúbenej detskej knižky
DESCRIPTION:Započúvajte sa s nami! Fotografka Marika Beňadik Majorová na chvíľu vymení svoj fotoaparát za knihu\, z ktorej vám prečíta svoj obľúbený detský príbeh.
URL:https://urbanmarket.sk/program/marika-benadik-majorova-cita-z-oblubenej-detskej-knizky/
LOCATION:Podium
CATEGORIES:Čítačka pre deti
END:VEVENT
END:VCALENDAR