BEGIN:VCALENDAR
VERSION:2.0
PRODID:-//Urban Market - ECPv6.15.16//NONSGML v1.0//EN
CALSCALE:GREGORIAN
METHOD:PUBLISH
X-WR-CALNAME:Urban Market
X-ORIGINAL-URL:https://urbanmarket.sk
X-WR-CALDESC:Udalosti pre Urban Market
REFRESH-INTERVAL;VALUE=DURATION:PT1H
X-Robots-Tag:noindex
X-PUBLISHED-TTL:PT1H
BEGIN:VTIMEZONE
TZID:Europe/Prague
BEGIN:DAYLIGHT
TZOFFSETFROM:+0100
TZOFFSETTO:+0200
TZNAME:CEST
DTSTART:20240331T010000
END:DAYLIGHT
BEGIN:STANDARD
TZOFFSETFROM:+0200
TZOFFSETTO:+0100
TZNAME:CET
DTSTART:20241027T010000
END:STANDARD
BEGIN:DAYLIGHT
TZOFFSETFROM:+0100
TZOFFSETTO:+0200
TZNAME:CEST
DTSTART:20250330T010000
END:DAYLIGHT
BEGIN:STANDARD
TZOFFSETFROM:+0200
TZOFFSETTO:+0100
TZNAME:CET
DTSTART:20251026T010000
END:STANDARD
BEGIN:DAYLIGHT
TZOFFSETFROM:+0100
TZOFFSETTO:+0200
TZNAME:CEST
DTSTART:20260329T010000
END:DAYLIGHT
BEGIN:STANDARD
TZOFFSETFROM:+0200
TZOFFSETTO:+0100
TZNAME:CET
DTSTART:20261025T010000
END:STANDARD
END:VTIMEZONE
BEGIN:VEVENT
DTSTART;TZID=Europe/Prague:20251221T140000
DTEND;TZID=Europe/Prague:20251221T150000
DTSTAMP:20260425T183055
CREATED:20251213T070606Z
LAST-MODIFIED:20251213T070659Z
UID:35018-1766325600-1766329200@urbanmarket.sk
SUMMARY:Michal Slanička: Adelinka a čarovná pekáreň
DESCRIPTION:Predstavenie knižnej novinky pre deti Adelinka a čarovná pekáreň z vydavateľstva Motýľ. Príbeh\, v ktorom sa vôňa koláčikov mieša s kúzlami a medzi vrecami múky sa skrývajú dobrodružstvá. Hlavnými postavami sú Adelinka a magické bytosti ako Medový Macko\, Čokoládová Kráľovná či Múčny škriatok. Autorom knihy je Michal Slanička\, redaktor\, moderátor a scenárista. Diváci ho poznajú najmä z relácie Slovensko v obrazoch. Dlhé roky pôsobil v rozhlase ako moderátor. Je nadšencom slovenskej histórie a kultúrneho dedičstva\, ktoré približuje prostredníctvom svojich historických románov Pliaga a Predpeklie. Voľný čas delí medzi písanie kníh\, cestovanie a drotárstvo.
URL:https://urbanmarket.sk/program/michal-slanicka-adelinka-a-carovna-pekaren/
LOCATION:Pódium na balkóne
CATEGORIES:Čítačka pre deti
ATTACH;FMTTYPE=image/jpeg:https://urbanmarket.sk/wp-content/uploads/2025/12/Michal-Slanicka-Adelinka-a-carovna-pekaren_1.jpg
END:VEVENT
END:VCALENDAR