BEGIN:VCALENDAR
VERSION:2.0
PRODID:-//Urban Market - ECPv6.15.16//NONSGML v1.0//EN
CALSCALE:GREGORIAN
METHOD:PUBLISH
X-WR-CALNAME:Urban Market
X-ORIGINAL-URL:https://urbanmarket.sk
X-WR-CALDESC:Udalosti pre Urban Market
REFRESH-INTERVAL;VALUE=DURATION:PT1H
X-Robots-Tag:noindex
X-PUBLISHED-TTL:PT1H
BEGIN:VTIMEZONE
TZID:Europe/Prague
BEGIN:DAYLIGHT
TZOFFSETFROM:+0100
TZOFFSETTO:+0200
TZNAME:CEST
DTSTART:20210328T010000
END:DAYLIGHT
BEGIN:STANDARD
TZOFFSETFROM:+0200
TZOFFSETTO:+0100
TZNAME:CET
DTSTART:20211031T010000
END:STANDARD
BEGIN:DAYLIGHT
TZOFFSETFROM:+0100
TZOFFSETTO:+0200
TZNAME:CEST
DTSTART:20220327T010000
END:DAYLIGHT
BEGIN:STANDARD
TZOFFSETFROM:+0200
TZOFFSETTO:+0100
TZNAME:CET
DTSTART:20221030T010000
END:STANDARD
BEGIN:DAYLIGHT
TZOFFSETFROM:+0100
TZOFFSETTO:+0200
TZNAME:CEST
DTSTART:20230326T010000
END:DAYLIGHT
BEGIN:STANDARD
TZOFFSETFROM:+0200
TZOFFSETTO:+0100
TZNAME:CET
DTSTART:20231029T010000
END:STANDARD
END:VTIMEZONE
BEGIN:VEVENT
DTSTART;TZID=Europe/Prague:20220522T153000
DTEND;TZID=Europe/Prague:20220522T163000
DTSTAMP:20260426T051620
CREATED:20220511T133312Z
LAST-MODIFIED:20220511T133638Z
UID:4308-1653233400-1653237000@urbanmarket.sk
SUMMARY:NevaDIvadlo: Cestoviny z vajcom
DESCRIPTION:Vydajte sa s vajcom na vandrovku! V autorskej rozprávke Cestoviny s vajcom v podaní NevaDIvadla precestujeme s hlavným hrdinom celý svet a spoznáme množno zaujímavostí o všetkých kontinentoch. Počas putovania vajce stretáva ďalšie vajíčka alebo živočíchy\, ktoré sa práve z vajíčka vyliahli\, a tak zisťuje\, že z vajíčok sa neliahnu len sliepky\, ale všetky možné živočíšne druhy. NevaDIvadlo vzniklo ako zoskupenie dvoch absolventov praktických umeleckých odborov – Lukáša Jurka a Mareka Luptáka. V súčasnosti sa primárne zameriava na zábavné formy divadla\, avšak s dôrazom na umeleckú kvalitu.  Cestoviny s vajcomScenár: Lukáš Jurko\, Katarína RábekováRéžia a hrajú: Róbert Máťuš\, Lukáš JurkoScénografia: Dominik Márius Javor\, Miriám HorňákováText piesne: Dominik Márius JavorDĺžka predstavenia: 45 minút
URL:https://urbanmarket.sk/program/nevadivadlo-cestoviny-z-vajcom/
CATEGORIES:Divadlo pre deti
ATTACH;FMTTYPE=image/jpeg:https://urbanmarket.sk/wp-content/uploads/2022/05/Cestoviny-s-vajcom_foto-David-Krajci_05.jpg
END:VEVENT
END:VCALENDAR