BEGIN:VCALENDAR
VERSION:2.0
PRODID:-//Urban Market - ECPv6.15.16//NONSGML v1.0//EN
CALSCALE:GREGORIAN
METHOD:PUBLISH
X-WR-CALNAME:Urban Market
X-ORIGINAL-URL:https://urbanmarket.sk
X-WR-CALDESC:Udalosti pre Urban Market
REFRESH-INTERVAL;VALUE=DURATION:PT1H
X-Robots-Tag:noindex
X-PUBLISHED-TTL:PT1H
BEGIN:VTIMEZONE
TZID:Europe/Prague
BEGIN:DAYLIGHT
TZOFFSETFROM:+0100
TZOFFSETTO:+0200
TZNAME:CEST
DTSTART:20240331T010000
END:DAYLIGHT
BEGIN:STANDARD
TZOFFSETFROM:+0200
TZOFFSETTO:+0100
TZNAME:CET
DTSTART:20241027T010000
END:STANDARD
BEGIN:DAYLIGHT
TZOFFSETFROM:+0100
TZOFFSETTO:+0200
TZNAME:CEST
DTSTART:20250330T010000
END:DAYLIGHT
BEGIN:STANDARD
TZOFFSETFROM:+0200
TZOFFSETTO:+0100
TZNAME:CET
DTSTART:20251026T010000
END:STANDARD
BEGIN:DAYLIGHT
TZOFFSETFROM:+0100
TZOFFSETTO:+0200
TZNAME:CEST
DTSTART:20260329T010000
END:DAYLIGHT
BEGIN:STANDARD
TZOFFSETFROM:+0200
TZOFFSETTO:+0100
TZNAME:CET
DTSTART:20261025T010000
END:STANDARD
END:VTIMEZONE
BEGIN:VEVENT
DTSTART;TZID=Europe/Prague:20251219T153000
DTEND;TZID=Europe/Prague:20251219T161500
DTSTAMP:20260425T191613
CREATED:20251212T213847Z
LAST-MODIFIED:20251212T213922Z
UID:34973-1766158200-1766160900@urbanmarket.sk
SUMMARY:Peter Gärtner: Vtedy pod Šlosbergom
DESCRIPTION:Moderné bábkové divadelné predstavenie na motívy najznámejších starých prešporských legiend a povestí. Príbeh o súžití ľudí s vodníkmi\, rusalkami či s čertom\, ktorý sa odohráva za dávnych čias\, keď medzi Dunajom a hradným kopcom stáli len rybárske chatrče. Pánmi boli vtedy vodné tvory na čele s Dunajskou kráľovnou. Zámožný vodníci každý deň počítali svoje dušičky a potmehúdsky čert vyliezal zo svojho brlohu\, aby ľuďom škodil a chystal na nich huncútstva. Museli sa s nimi pasovať najmä rybári spod hradného kopca – Šlosbergu. Až jedného dňa sa odvážny mládenec Jakub\,  pútnik z ďalekej krajiny\, pustil do súboja s čertom. Usadil sa v meste a rozhodol sa\, že postaví kostoly\, veže a hradby. Pre deti od 3 rokov.
URL:https://urbanmarket.sk/program/peter-gartner-vtedy-pod-slosbergom/
LOCATION:Pódium na balkóne
CATEGORIES:Divadlo pre deti
ATTACH;FMTTYPE=image/jpeg:https://urbanmarket.sk/wp-content/uploads/2025/12/Kopia-suboru-DSC01371-kopia-1.jpg
END:VEVENT
END:VCALENDAR