BEGIN:VCALENDAR
VERSION:2.0
PRODID:-//Urban Market - ECPv6.15.16//NONSGML v1.0//EN
CALSCALE:GREGORIAN
METHOD:PUBLISH
X-WR-CALNAME:Urban Market
X-ORIGINAL-URL:https://urbanmarket.sk
X-WR-CALDESC:Udalosti pre Urban Market
REFRESH-INTERVAL;VALUE=DURATION:PT1H
X-Robots-Tag:noindex
X-PUBLISHED-TTL:PT1H
BEGIN:VTIMEZONE
TZID:Europe/Prague
BEGIN:DAYLIGHT
TZOFFSETFROM:+0100
TZOFFSETTO:+0200
TZNAME:CEST
DTSTART:20210328T010000
END:DAYLIGHT
BEGIN:STANDARD
TZOFFSETFROM:+0200
TZOFFSETTO:+0100
TZNAME:CET
DTSTART:20211031T010000
END:STANDARD
BEGIN:DAYLIGHT
TZOFFSETFROM:+0100
TZOFFSETTO:+0200
TZNAME:CEST
DTSTART:20220327T010000
END:DAYLIGHT
BEGIN:STANDARD
TZOFFSETFROM:+0200
TZOFFSETTO:+0100
TZNAME:CET
DTSTART:20221030T010000
END:STANDARD
BEGIN:DAYLIGHT
TZOFFSETFROM:+0100
TZOFFSETTO:+0200
TZNAME:CEST
DTSTART:20230326T010000
END:DAYLIGHT
BEGIN:STANDARD
TZOFFSETFROM:+0200
TZOFFSETTO:+0100
TZNAME:CET
DTSTART:20231029T010000
END:STANDARD
END:VTIMEZONE
BEGIN:VEVENT
DTSTART;TZID=Europe/Prague:20221209T150000
DTEND;TZID=Europe/Prague:20221209T153000
DTSTAMP:20260426T000120
CREATED:20221206T203727Z
LAST-MODIFIED:20221206T203756Z
UID:9447-1670598000-1670599800@urbanmarket.sk
SUMMARY:Richard Stanke číta z knihy Traja kamoši a fantastický zázrak
DESCRIPTION:Úspešná séria kníh o fakticky fantastických kamošoch pokračuje. Juraj Králik dosť podrástol a má úplne opačné problémy\, ako v prvej knihe. Cíti\, že dospieva a že pozornosť rodičov sa až prehnane sústredí napríklad na jeho osobnú hygienu. Vyzerá to\, že jeho kamoška Laura s ním úplne prerušila spojenie\, čo mu len zhoršuje náladu. Juraj\, Laura a Jožino – Tigria noha začnú nenápadne prežívať podobné starosti\, ako dospelí. Žiarlivosť aj urazenosť ešte viac zamotá záhadu miznúcich mačiek aj jazvečíka Starého Ďábla. A práve traja zvierací kamoši pomôžu deťom spomenúť si\, ako situáciu dokázali vyriešiť v minulosti. 
URL:https://urbanmarket.sk/program/richard-stanke-cita-z-knihy-traja-kamosi-a-fantasticky-zazrak/
LOCATION:Podium
CATEGORIES:Čítačka pre deti
END:VEVENT
END:VCALENDAR