BEGIN:VCALENDAR
VERSION:2.0
PRODID:-//Urban Market - ECPv6.15.16//NONSGML v1.0//EN
CALSCALE:GREGORIAN
METHOD:PUBLISH
X-WR-CALNAME:Urban Market
X-ORIGINAL-URL:https://urbanmarket.sk
X-WR-CALDESC:Udalosti pre Urban Market
REFRESH-INTERVAL;VALUE=DURATION:PT1H
X-Robots-Tag:noindex
X-PUBLISHED-TTL:PT1H
BEGIN:VTIMEZONE
TZID:Europe/Prague
BEGIN:DAYLIGHT
TZOFFSETFROM:+0100
TZOFFSETTO:+0200
TZNAME:CEST
DTSTART:20240331T010000
END:DAYLIGHT
BEGIN:STANDARD
TZOFFSETFROM:+0200
TZOFFSETTO:+0100
TZNAME:CET
DTSTART:20241027T010000
END:STANDARD
BEGIN:DAYLIGHT
TZOFFSETFROM:+0100
TZOFFSETTO:+0200
TZNAME:CEST
DTSTART:20250330T010000
END:DAYLIGHT
BEGIN:STANDARD
TZOFFSETFROM:+0200
TZOFFSETTO:+0100
TZNAME:CET
DTSTART:20251026T010000
END:STANDARD
BEGIN:DAYLIGHT
TZOFFSETFROM:+0100
TZOFFSETTO:+0200
TZNAME:CEST
DTSTART:20260329T010000
END:DAYLIGHT
BEGIN:STANDARD
TZOFFSETFROM:+0200
TZOFFSETTO:+0100
TZNAME:CET
DTSTART:20261025T010000
END:STANDARD
END:VTIMEZONE
BEGIN:VEVENT
DTSTART;TZID=Europe/Prague:20250809T010000
DTEND;TZID=Europe/Prague:20250809T030000
DTSTAMP:20260426T044027
CREATED:20250729T203529Z
LAST-MODIFIED:20250729T204028Z
UID:31794-1754701200-1754708400@urbanmarket.sk
SUMMARY:Rivali
DESCRIPTION:Závratná rýchlosť\, adrenalín v žilách\, krásne dievčatá a neskrotná túžba po víťazstve. Preteky Formuly 1 sú miestom\, kde aj jediná chyba môže znamenať smrť. Na týchto okruhoch spolu súperia dvaja odvekí rivali. James Hunt je neriadená strela\, neodolateľný playboy a brilantný jazdec. Niki Lauda je dokonalý profesionál\, vždy precízny a disciplinovaný.  								\n				\n				\n				\n																														\n				\n				\n				\n									Film Rivali rozpráva skutočný príbeh dvoch pilotov\, ktorí sú súpermi nielen na trati\, ale aj v reálnom živote. Napriek rivalite sú si navzájom inšpiráciou. Ich odlišnosti však vytvárajú zvláštne priateľstvo. No práve rivalita ich ženie k čoraz riskantnejším výkonom. Titul majstra sveta môže získať len jeden. 								\n				\n				\n				\n							\n							\n																											\n													\n									\n					\n						\n				\n				\n				\n									Zdroj ČSFD. 								\n				\n					\n		\n				\n			\n						\n				\n																														\n				\n				\n				\n									USA / Veľká Británia / Nemecko\, 2013\, 123 min  Réžia: Ron HowardScenár: Peter MorganKamera: Anthony Dod MantleHudba: Hans ZimmerHrajú: Chris Hemsworth\, Daniel Brühl\, Olivia Wilde\, Alexandra Maria Lara\, Pierfrancesco Favino\, David Calder\, Natalie Dormer\, Stephen Mangan\, Christian McKay
URL:https://urbanmarket.sk/program/rivali/
LOCATION:Urban Market Stage
CATEGORIES:Silent Cinema
ATTACH;FMTTYPE=image/jpeg:https://urbanmarket.sk/wp-content/uploads/2025/07/rush_tall-kopia.jpg
END:VEVENT
END:VCALENDAR