BEGIN:VCALENDAR
VERSION:2.0
PRODID:-//Urban Market - ECPv6.15.16//NONSGML v1.0//EN
CALSCALE:GREGORIAN
METHOD:PUBLISH
X-WR-CALNAME:Urban Market
X-ORIGINAL-URL:https://urbanmarket.sk
X-WR-CALDESC:Udalosti pre Urban Market
REFRESH-INTERVAL;VALUE=DURATION:PT1H
X-Robots-Tag:noindex
X-PUBLISHED-TTL:PT1H
BEGIN:VTIMEZONE
TZID:Europe/Prague
BEGIN:DAYLIGHT
TZOFFSETFROM:+0100
TZOFFSETTO:+0200
TZNAME:CEST
DTSTART:20230326T010000
END:DAYLIGHT
BEGIN:STANDARD
TZOFFSETFROM:+0200
TZOFFSETTO:+0100
TZNAME:CET
DTSTART:20231029T010000
END:STANDARD
BEGIN:DAYLIGHT
TZOFFSETFROM:+0100
TZOFFSETTO:+0200
TZNAME:CEST
DTSTART:20240331T010000
END:DAYLIGHT
BEGIN:STANDARD
TZOFFSETFROM:+0200
TZOFFSETTO:+0100
TZNAME:CET
DTSTART:20241027T010000
END:STANDARD
BEGIN:DAYLIGHT
TZOFFSETFROM:+0100
TZOFFSETTO:+0200
TZNAME:CEST
DTSTART:20250330T010000
END:DAYLIGHT
BEGIN:STANDARD
TZOFFSETFROM:+0200
TZOFFSETTO:+0100
TZNAME:CET
DTSTART:20251026T010000
END:STANDARD
END:VTIMEZONE
BEGIN:VEVENT
DTSTART;TZID=Europe/Prague:20240531T200000
DTEND;TZID=Europe/Prague:20240531T203000
DTSTAMP:20260426T064102
CREATED:20240514T200816Z
LAST-MODIFIED:20240514T200957Z
UID:21861-1717185600-1717187400@urbanmarket.sk
SUMMARY:SATIS by Daniel Kordik prináša CE ZA AR
DESCRIPTION:Krátky DJ set Daniela Kordíka spojený s krstom LP-čka. Satis vznikol ako soundtrack k videodokumentom Ceny Slovenskej komory architektov za architektúru CE ZA AR 2023. Vypočujte si SATIS
URL:https://urbanmarket.sk/program/satis-by-daniel-kordik/
LOCATION:Urban Market Stage
CATEGORIES:DJ set
ATTACH;FMTTYPE=image/jpeg:https://urbanmarket.sk/wp-content/uploads/2024/05/271247456_5085912671442335_2648219452510479534_n.jpg
END:VEVENT
END:VCALENDAR