BEGIN:VCALENDAR
VERSION:2.0
PRODID:-//Urban Market - ECPv6.15.16//NONSGML v1.0//EN
CALSCALE:GREGORIAN
METHOD:PUBLISH
X-WR-CALNAME:Urban Market
X-ORIGINAL-URL:https://urbanmarket.sk
X-WR-CALDESC:Udalosti pre Urban Market
REFRESH-INTERVAL;VALUE=DURATION:PT1H
X-Robots-Tag:noindex
X-PUBLISHED-TTL:PT1H
BEGIN:VTIMEZONE
TZID:Europe/Prague
BEGIN:DAYLIGHT
TZOFFSETFROM:+0100
TZOFFSETTO:+0200
TZNAME:CEST
DTSTART:20240331T010000
END:DAYLIGHT
BEGIN:STANDARD
TZOFFSETFROM:+0200
TZOFFSETTO:+0100
TZNAME:CET
DTSTART:20241027T010000
END:STANDARD
BEGIN:DAYLIGHT
TZOFFSETFROM:+0100
TZOFFSETTO:+0200
TZNAME:CEST
DTSTART:20250330T010000
END:DAYLIGHT
BEGIN:STANDARD
TZOFFSETFROM:+0200
TZOFFSETTO:+0100
TZNAME:CET
DTSTART:20251026T010000
END:STANDARD
BEGIN:DAYLIGHT
TZOFFSETFROM:+0100
TZOFFSETTO:+0200
TZNAME:CEST
DTSTART:20260329T010000
END:DAYLIGHT
BEGIN:STANDARD
TZOFFSETFROM:+0200
TZOFFSETTO:+0100
TZNAME:CET
DTSTART:20261025T010000
END:STANDARD
END:VTIMEZONE
BEGIN:VEVENT
DTSTART;TZID=Europe/Prague:20251205T190000
DTEND;TZID=Europe/Prague:20251205T200000
DTSTAMP:20260426T030226
CREATED:20251130T213749Z
LAST-MODIFIED:20251130T214243Z
UID:33396-1764961200-1764964800@urbanmarket.sk
SUMMARY:Sofyana
DESCRIPTION:SOFYANA je začínajúca DJka z Nitry\, ktorá žije hudbou celý život. Vo svojich setoch spája rytmické\, melodické a tanečné žánre ako UKG house\, moderný funky house a energický UK club groove.  Za posledné obdobie odohrala množstvo hraní na Slovensku aj v Česku\, predstavila sa napr. v Aldea Clube po boku DJ EKG\, v Kácečku\, na Lovestream Festivale\, ale pamätať si ju môžete aj z Urban Market 2025 (Spring Edition). V Česku vystúpila na viacerých eventoch\, pričom medzi najvýraznejšie patria jej sety v Exit Clube v Brne. Jej selekciu bolo možné počuť aj v podobe guest mixu na Európe 2.   								\n				\n				\n				\n								\n							\n							\n				\n				\n				\n									Hudba je pre ňu miesto\, kde vie byť sama sebou. Keď hrá\, chce tento pocit odovzdať ďalej tak\, aby sa ľudia cítili uvoľnene a našli v hudbe rovnakú radosť\, akú v nej nachádza ona. SoundCloud | YouTube | Instagram
URL:https://urbanmarket.sk/program/sofyana-2/
LOCATION:Urban Market Indoor Stage
CATEGORIES:DJ set
ATTACH;FMTTYPE=image/jpeg:https://urbanmarket.sk/wp-content/uploads/2025/11/IMG_2593-kopia.jpeg
END:VEVENT
END:VCALENDAR