BEGIN:VCALENDAR
VERSION:2.0
PRODID:-//Urban Market - ECPv6.15.16//NONSGML v1.0//EN
CALSCALE:GREGORIAN
METHOD:PUBLISH
X-WR-CALNAME:Urban Market
X-ORIGINAL-URL:https://urbanmarket.sk
X-WR-CALDESC:Udalosti pre Urban Market
REFRESH-INTERVAL;VALUE=DURATION:PT1H
X-Robots-Tag:noindex
X-PUBLISHED-TTL:PT1H
BEGIN:VTIMEZONE
TZID:Europe/Prague
BEGIN:DAYLIGHT
TZOFFSETFROM:+0100
TZOFFSETTO:+0200
TZNAME:CEST
DTSTART:20240331T010000
END:DAYLIGHT
BEGIN:STANDARD
TZOFFSETFROM:+0200
TZOFFSETTO:+0100
TZNAME:CET
DTSTART:20241027T010000
END:STANDARD
BEGIN:DAYLIGHT
TZOFFSETFROM:+0100
TZOFFSETTO:+0200
TZNAME:CEST
DTSTART:20250330T010000
END:DAYLIGHT
BEGIN:STANDARD
TZOFFSETFROM:+0200
TZOFFSETTO:+0100
TZNAME:CET
DTSTART:20251026T010000
END:STANDARD
BEGIN:DAYLIGHT
TZOFFSETFROM:+0100
TZOFFSETTO:+0200
TZNAME:CEST
DTSTART:20260329T010000
END:DAYLIGHT
BEGIN:STANDARD
TZOFFSETFROM:+0200
TZOFFSETTO:+0100
TZNAME:CET
DTSTART:20261025T010000
END:STANDARD
END:VTIMEZONE
BEGIN:VEVENT
DTSTART;TZID=Europe/Prague:20251219T183000
DTEND;TZID=Europe/Prague:20251219T193000
DTSTAMP:20260425T193104
CREATED:20251212T214621Z
LAST-MODIFIED:20251212T214725Z
UID:34987-1766169000-1766172600@urbanmarket.sk
SUMMARY:Toello
DESCRIPTION:Toello je spevák\, skladateľ\, producent\, multiinštrumentalista a grafický dizajnér zo Slovenska\, ktorý vkusne spája modernú produkciu s „old-school“ pesničkárstvom\, pričom čerpá inšpiráciu z rôznych druhov hudby. Na slovenskú hudobnú scénu vstúpil s indie-popovým albumom „Bats & Butterflies“\, ktorý bol nominovaný na „Debut roka“ v rámci Radio_Head Awards Rádia FM. Odvtedy pravidelne vydáva sólo materiál\, ale tiež produkuje iných umelcov a spúšťa nové hudobné projekty.
URL:https://urbanmarket.sk/program/toello/
LOCATION:Pódium na balkóne
CATEGORIES:Koncert
ATTACH;FMTTYPE=image/jpeg:https://urbanmarket.sk/wp-content/uploads/2025/12/tom0.1-kopia.jpg
END:VEVENT
END:VCALENDAR